BEGIN:VCALENDAR
VERSION:2.0
PRODID:-//Contratero//ES
CALSCALE:GREGORIAN
METHOD:PUBLISH
BEGIN:VEVENT
UID:2025 22  25000105@contratero.es
DTSTAMP:20260421T040226Z
DTSTART:20250729T235959
DTEND:20250730T005959
SUMMARY:Cierre: Contrato de Servicios de adecuación legal y aplica
DESCRIPTION:Contrato de Servicios de adecuación legal y aplicación técnica del Esquema Nacional de Seguridad (ENS)\, mantenimiento de la normativa vigente en materia de protección de datos\, servicios de delegado d...\\n\\nOrganismo: Alcaldía del Ayuntamiento de Las Gabias\\n\\nVer en Contratero: https://contratero.es/contracts/2025 22  25000105
URL:https://contratero.es/contracts/2025 22  25000105
STATUS:CONFIRMED
BEGIN:VALARM
TRIGGER:-P1D
ACTION:DISPLAY
DESCRIPTION:Recordatorio: Contrato de Servicios de adecu
END:VALARM
END:VEVENT
END:VCALENDAR